BEGIN:VCALENDAR
VERSION:2.0
PRODID:-//IlluminAge WordPress Calendar Plugin//
CALSCALE:GREGORIAN
METHOD:PUBLISH
X-WR-CALNAME:Washington Health Care Association
X-WR-CALDESC:
X-FROM-URL:https://www.whca.org
BEGIN:VEVENT
URL:https://www.whca.org/snf-webinar-covid-19-surveillance-to-enable-early-detection-and-response-to-outbreaks-national-healthcare-safety-network-nhsn-mandatory-data-collection-5/
UID:https://www.whca.org/snf-webinar-covid-19-surveillance-to-enable-early-detection-and-response-to-outbreaks-national-healthcare-safety-network-nhsn-mandatory-data-collection-5/
DTSTAMP:20260422T105106Z
DTSTART: 20200910T200000Z
DTEND: 20200910T210000Z
SUMMARY:SNF Webinar: COVID-19 Surveillance to Enable Early Detection and Response to Outbreaks: National Healthcare Safety Network (NHSN) Mandatory Data Collection
CONTACT:
LOCATION: - , 
END:VEVENT
END:VCALENDAR