BEGIN:VCALENDAR
VERSION:2.0
PRODID:-//IlluminAge WordPress Calendar Plugin//
CALSCALE:GREGORIAN
METHOD:PUBLISH
X-WR-CALNAME:Washington Health Care Association
X-WR-CALDESC:
X-FROM-URL:https://www.whca.org
BEGIN:VEVENT
URL:https://www.whca.org/2025-snf-webinar-series-effective-care-planning-and-documentation-for-skilled-nursing-facilities/
UID:https://www.whca.org/2025-snf-webinar-series-effective-care-planning-and-documentation-for-skilled-nursing-facilities/
DTSTAMP:20260420T084000Z
DTSTART: 20250417T180000Z
DTEND: 20250417T190000Z
SUMMARY:2025 SNF Webinar Series: Effective Care Planning and Documentation for Skilled Nursing Facilities
CONTACT:Jennifer Baria
LOCATION:Virtual - , 
END:VEVENT
END:VCALENDAR