BEGIN:VCALENDAR
VERSION:2.0
PRODID:-//IlluminAge WordPress Calendar Plugin//
CALSCALE:GREGORIAN
METHOD:PUBLISH
X-WR-CALNAME:Washington Health Care Association
X-WR-CALDESC:
X-FROM-URL:https://www.whca.org
BEGIN:VEVENT
URL:https://www.whca.org/whca-assisted-living-care-academy-alca-december-2024-virtual-experience/
UID:https://www.whca.org/whca-assisted-living-care-academy-alca-december-2024-virtual-experience/
DTSTAMP:20260421T055424Z
DTSTART: 20241203T170000Z
DTEND: 20241210T230000Z
SUMMARY:WHCA Assisted Living Care Academy (ALCA) | December 2024 | Virtual Experience
CONTACT:Angela Ewing
LOCATION:https://education.whca.org/courses/78271 - , 
END:VEVENT
END:VCALENDAR